BEGIN:VCALENDAR
VERSION:2.0
PRODID:-//Healthy Washington County - ECPv6.15.17//NONSGML v1.0//EN
CALSCALE:GREGORIAN
METHOD:PUBLISH
X-ORIGINAL-URL:https://healthywashingtoncounty.com
X-WR-CALDESC:Events for Healthy Washington County
REFRESH-INTERVAL;VALUE=DURATION:PT1H
X-Robots-Tag:noindex
X-PUBLISHED-TTL:PT1H
BEGIN:VTIMEZONE
TZID:America/New_York
BEGIN:DAYLIGHT
TZOFFSETFROM:-0500
TZOFFSETTO:-0400
TZNAME:EDT
DTSTART:20230312T070000
END:DAYLIGHT
BEGIN:STANDARD
TZOFFSETFROM:-0400
TZOFFSETTO:-0500
TZNAME:EST
DTSTART:20231105T060000
END:STANDARD
BEGIN:DAYLIGHT
TZOFFSETFROM:-0500
TZOFFSETTO:-0400
TZNAME:EDT
DTSTART:20240310T070000
END:DAYLIGHT
BEGIN:STANDARD
TZOFFSETFROM:-0400
TZOFFSETTO:-0500
TZNAME:EST
DTSTART:20241103T060000
END:STANDARD
BEGIN:DAYLIGHT
TZOFFSETFROM:-0500
TZOFFSETTO:-0400
TZNAME:EDT
DTSTART:20250309T070000
END:DAYLIGHT
BEGIN:STANDARD
TZOFFSETFROM:-0400
TZOFFSETTO:-0500
TZNAME:EST
DTSTART:20251102T060000
END:STANDARD
BEGIN:DAYLIGHT
TZOFFSETFROM:-0500
TZOFFSETTO:-0400
TZNAME:EDT
DTSTART:20260308T070000
END:DAYLIGHT
BEGIN:STANDARD
TZOFFSETFROM:-0400
TZOFFSETTO:-0500
TZNAME:EST
DTSTART:20261101T060000
END:STANDARD
END:VTIMEZONE
BEGIN:VEVENT
DTSTART;TZID=America/New_York:20251022T120000
DTEND;TZID=America/New_York:20251022T130000
DTSTAMP:20260420T120143
CREATED:20250911T140025Z
LAST-MODIFIED:20250911T140952Z
UID:10000159-1761134400-1761138000@healthywashingtoncounty.com
SUMMARY:Walking 2 Wellness
DESCRIPTION:Weekly Walking Club Every Wednesday at Noon\nLace up your sneakers\, make your way to the Hagerstown Community College ARCC to do something great for your physical and emotional health! \n\n– Adults of all ages gather weekly\n– Hear from a health care expert or inspirational speaker\n– And then go for a one-mile walk at their own pace on the indoor track.
URL:https://healthywashingtoncounty.com/event/walking-2-wellness/2025-10-22/
LOCATION:Hagerstown Community College ARCC (Athletic\, Recreation and Community Center)\, 20175 Scholar Dr.\, Hagerstown\, MD\, 21740\, United States
CATEGORIES:Physical Activity,Staying well
ATTACH;FMTTYPE=image/png:https://healthywashingtoncounty.com/wp-content/uploads/2025/09/Every-Wednesday-at-Noon-e1757599196592.png
END:VEVENT
BEGIN:VEVENT
DTSTART;TZID=America/New_York:20251018T110000
DTEND;TZID=America/New_York:20251018T123000
DTSTAMP:20260420T120143
CREATED:20250731T153809Z
LAST-MODIFIED:20250731T154058Z
UID:10000078-1760785200-1760790600@healthywashingtoncounty.com
SUMMARY:Public Emergency Preparedness
DESCRIPTION:The Hagerstown Homesteaders and Washington County Health Department present: \nPublic Emergency Preparedness\nPrepare for any disruption of normal life with help from the Public Health Emergency Division \nFood Survival Kits from 4Patriots awarded as door prizes \nGet free safety items
URL:https://healthywashingtoncounty.com/event/public-emergency-preparedness/
LOCATION:Washington County Free Library – Downtown Hagerstown\, 100 South Potomac St.\, Hagerstown\, MD\, 21740\, United States
CATEGORIES:Staying well
END:VEVENT
BEGIN:VEVENT
DTSTART;TZID=America/New_York:20251015T120000
DTEND;TZID=America/New_York:20251015T130000
DTSTAMP:20260420T120143
CREATED:20250911T140025Z
LAST-MODIFIED:20250911T140952Z
UID:10000158-1760529600-1760533200@healthywashingtoncounty.com
SUMMARY:Walking 2 Wellness
DESCRIPTION:Weekly Walking Club Every Wednesday at Noon\nLace up your sneakers\, make your way to the Hagerstown Community College ARCC to do something great for your physical and emotional health! \n\n– Adults of all ages gather weekly\n– Hear from a health care expert or inspirational speaker\n– And then go for a one-mile walk at their own pace on the indoor track.
URL:https://healthywashingtoncounty.com/event/walking-2-wellness/2025-10-15/
LOCATION:Hagerstown Community College ARCC (Athletic\, Recreation and Community Center)\, 20175 Scholar Dr.\, Hagerstown\, MD\, 21740\, United States
CATEGORIES:Physical Activity,Staying well
ATTACH;FMTTYPE=image/png:https://healthywashingtoncounty.com/wp-content/uploads/2025/09/Every-Wednesday-at-Noon-e1757599196592.png
END:VEVENT
BEGIN:VEVENT
DTSTART;TZID=America/New_York:20251008T120000
DTEND;TZID=America/New_York:20251008T130000
DTSTAMP:20260420T120143
CREATED:20250911T140025Z
LAST-MODIFIED:20250911T140952Z
UID:10000157-1759924800-1759928400@healthywashingtoncounty.com
SUMMARY:Walking 2 Wellness
DESCRIPTION:Weekly Walking Club Every Wednesday at Noon\nLace up your sneakers\, make your way to the Hagerstown Community College ARCC to do something great for your physical and emotional health! \n\n– Adults of all ages gather weekly\n– Hear from a health care expert or inspirational speaker\n– And then go for a one-mile walk at their own pace on the indoor track.
URL:https://healthywashingtoncounty.com/event/walking-2-wellness/2025-10-08/
LOCATION:Hagerstown Community College ARCC (Athletic\, Recreation and Community Center)\, 20175 Scholar Dr.\, Hagerstown\, MD\, 21740\, United States
CATEGORIES:Physical Activity,Staying well
ATTACH;FMTTYPE=image/png:https://healthywashingtoncounty.com/wp-content/uploads/2025/09/Every-Wednesday-at-Noon-e1757599196592.png
END:VEVENT
BEGIN:VEVENT
DTSTART;TZID=America/New_York:20251001T170000
DTEND;TZID=America/New_York:20251001T183000
DTSTAMP:20260420T120143
CREATED:20250910T185131Z
LAST-MODIFIED:20250910T185131Z
UID:10000151-1759338000-1759343400@healthywashingtoncounty.com
SUMMARY:Walk Maryland Day Event and Walk
DESCRIPTION:Kick off Walktober and join the Washington County Health Department and\nHagerstown Parks & Rec for our Walk Maryland Day Event and Walk! \nWCHD staff will lead walks every 30 min at 5:15 p.m.\, 5:40 p.m.\, & 6:10 p.m. \nLocal vendors will be set up to provide resources on physical activity\, healthy eating\, hypertension\, diabetes and more! \n(Rain Date will be Oct. 8th)
URL:https://healthywashingtoncounty.com/event/walk-maryland-day-event-and-walk/
LOCATION:Hagerstown Fairgrounds Park\, 351 N. Cleveland Ave.\, Hagerstown\, MD\, 21742\, United States
CATEGORIES:Physical Activity,Staying well
END:VEVENT
BEGIN:VEVENT
DTSTART;TZID=America/New_York:20251001T120000
DTEND;TZID=America/New_York:20251001T130000
DTSTAMP:20260420T120143
CREATED:20250911T140025Z
LAST-MODIFIED:20250911T140952Z
UID:10000156-1759320000-1759323600@healthywashingtoncounty.com
SUMMARY:Walking 2 Wellness
DESCRIPTION:Weekly Walking Club Every Wednesday at Noon\nLace up your sneakers\, make your way to the Hagerstown Community College ARCC to do something great for your physical and emotional health! \n\n– Adults of all ages gather weekly\n– Hear from a health care expert or inspirational speaker\n– And then go for a one-mile walk at their own pace on the indoor track.
URL:https://healthywashingtoncounty.com/event/walking-2-wellness/2025-10-01/
LOCATION:Hagerstown Community College ARCC (Athletic\, Recreation and Community Center)\, 20175 Scholar Dr.\, Hagerstown\, MD\, 21740\, United States
CATEGORIES:Physical Activity,Staying well
ATTACH;FMTTYPE=image/png:https://healthywashingtoncounty.com/wp-content/uploads/2025/09/Every-Wednesday-at-Noon-e1757599196592.png
END:VEVENT
BEGIN:VEVENT
DTSTART;TZID=America/New_York:20250924T120000
DTEND;TZID=America/New_York:20250924T130000
DTSTAMP:20260420T120143
CREATED:20250911T140025Z
LAST-MODIFIED:20250911T140952Z
UID:10000155-1758715200-1758718800@healthywashingtoncounty.com
SUMMARY:Walking 2 Wellness
DESCRIPTION:Weekly Walking Club Every Wednesday at Noon\nLace up your sneakers\, make your way to the Hagerstown Community College ARCC to do something great for your physical and emotional health! \n\n– Adults of all ages gather weekly\n– Hear from a health care expert or inspirational speaker\n– And then go for a one-mile walk at their own pace on the indoor track.
URL:https://healthywashingtoncounty.com/event/walking-2-wellness/2025-09-24/
LOCATION:Hagerstown Community College ARCC (Athletic\, Recreation and Community Center)\, 20175 Scholar Dr.\, Hagerstown\, MD\, 21740\, United States
CATEGORIES:Physical Activity,Staying well
ATTACH;FMTTYPE=image/png:https://healthywashingtoncounty.com/wp-content/uploads/2025/09/Every-Wednesday-at-Noon-e1757599196592.png
END:VEVENT
BEGIN:VEVENT
DTSTART;TZID=America/New_York:20250917T120000
DTEND;TZID=America/New_York:20250917T130000
DTSTAMP:20260420T120143
CREATED:20250911T140025Z
LAST-MODIFIED:20250911T140952Z
UID:10000154-1758110400-1758114000@healthywashingtoncounty.com
SUMMARY:Walking 2 Wellness
DESCRIPTION:Weekly Walking Club Every Wednesday at Noon\nLace up your sneakers\, make your way to the Hagerstown Community College ARCC to do something great for your physical and emotional health! \n\n– Adults of all ages gather weekly\n– Hear from a health care expert or inspirational speaker\n– And then go for a one-mile walk at their own pace on the indoor track.
URL:https://healthywashingtoncounty.com/event/walking-2-wellness/2025-09-17/
LOCATION:Hagerstown Community College ARCC (Athletic\, Recreation and Community Center)\, 20175 Scholar Dr.\, Hagerstown\, MD\, 21740\, United States
CATEGORIES:Physical Activity,Staying well
ATTACH;FMTTYPE=image/png:https://healthywashingtoncounty.com/wp-content/uploads/2025/09/Every-Wednesday-at-Noon-e1757599196592.png
END:VEVENT
BEGIN:VEVENT
DTSTART;TZID=America/New_York:20250910T120000
DTEND;TZID=America/New_York:20250910T130000
DTSTAMP:20260420T120143
CREATED:20250911T140025Z
LAST-MODIFIED:20250911T140952Z
UID:10000153-1757505600-1757509200@healthywashingtoncounty.com
SUMMARY:Walking 2 Wellness
DESCRIPTION:Weekly Walking Club Every Wednesday at Noon\nLace up your sneakers\, make your way to the Hagerstown Community College ARCC to do something great for your physical and emotional health! \n\n– Adults of all ages gather weekly\n– Hear from a health care expert or inspirational speaker\n– And then go for a one-mile walk at their own pace on the indoor track.
URL:https://healthywashingtoncounty.com/event/walking-2-wellness/2025-09-10/
LOCATION:Hagerstown Community College ARCC (Athletic\, Recreation and Community Center)\, 20175 Scholar Dr.\, Hagerstown\, MD\, 21740\, United States
CATEGORIES:Physical Activity,Staying well
ATTACH;FMTTYPE=image/png:https://healthywashingtoncounty.com/wp-content/uploads/2025/09/Every-Wednesday-at-Noon-e1757599196592.png
END:VEVENT
BEGIN:VEVENT
DTSTART;TZID=America/New_York:20250903T120000
DTEND;TZID=America/New_York:20250903T130000
DTSTAMP:20260420T120144
CREATED:20250911T140025Z
LAST-MODIFIED:20250911T140952Z
UID:10000152-1756900800-1756904400@healthywashingtoncounty.com
SUMMARY:Walking 2 Wellness
DESCRIPTION:Weekly Walking Club Every Wednesday at Noon\nLace up your sneakers\, make your way to the Hagerstown Community College ARCC to do something great for your physical and emotional health! \n\n– Adults of all ages gather weekly\n– Hear from a health care expert or inspirational speaker\n– And then go for a one-mile walk at their own pace on the indoor track.
URL:https://healthywashingtoncounty.com/event/walking-2-wellness/2025-09-03/
LOCATION:Hagerstown Community College ARCC (Athletic\, Recreation and Community Center)\, 20175 Scholar Dr.\, Hagerstown\, MD\, 21740\, United States
CATEGORIES:Physical Activity,Staying well
ATTACH;FMTTYPE=image/png:https://healthywashingtoncounty.com/wp-content/uploads/2025/09/Every-Wednesday-at-Noon-e1757599196592.png
END:VEVENT
BEGIN:VEVENT
DTSTART;TZID=America/New_York:20241114T170000
DTEND;TZID=America/New_York:20241114T183000
DTSTAMP:20260420T120144
CREATED:20241029T161432Z
LAST-MODIFIED:20241029T161702Z
UID:10000001-1731603600-1731609000@healthywashingtoncounty.com
SUMMARY:Go For Bold Celebration
DESCRIPTION:Go For Bold – Let’s Celebrate Our Progress\nThursday\, Nov. 14 @ Robinwood Professional Center\, Suite 142\n  \n5:00-5:30 p.m. – Networking. Heavy hors d’oeuvres & beverages provided.\n5:35-6:30 p.m. – Welcome\, Recognitions & Panel Discussion\n  \nLimited seating. Please register in advance.
URL:https://healthywashingtoncounty.com/event/go-for-bold-celebration/
LOCATION:Robinwood Professional Center\, Suite 142\, 11110 Medical Campus Road\, Hagerstown\, MD\, 21742\, United States
CATEGORIES:Mental Health,Nutrition,Physical Activity,Staying well
ATTACH;FMTTYPE=image/png:https://healthywashingtoncounty.com/wp-content/uploads/2022/12/Do-Eat-and-Believe-in-a-Healthy-Washington-County.png
END:VEVENT
END:VCALENDAR